BEGIN:VCALENDAR
VERSION:2.0
PRODID:-//Westview Baptist Church | Baptist Church in Warren, MI - ECPv6.2.8.2//NONSGML v1.0//EN
CALSCALE:GREGORIAN
METHOD:PUBLISH
X-ORIGINAL-URL:https://westviewbaptistchurch.net
X-WR-CALDESC:Events for Westview Baptist Church | Baptist Church in Warren, MI
REFRESH-INTERVAL;VALUE=DURATION:PT1H
X-Robots-Tag:noindex
X-PUBLISHED-TTL:PT1H
BEGIN:VTIMEZONE
TZID:America/New_York
BEGIN:DAYLIGHT
TZOFFSETFROM:-0500
TZOFFSETTO:-0400
TZNAME:EDT
DTSTART:20260308T070000
END:DAYLIGHT
BEGIN:STANDARD
TZOFFSETFROM:-0400
TZOFFSETTO:-0500
TZNAME:EST
DTSTART:20261101T060000
END:STANDARD
END:VTIMEZONE
BEGIN:VEVENT
DTSTART;TZID=America/New_York:20260425T110000
DTEND;TZID=America/New_York:20260425T130000
DTSTAMP:20260423T073747
CREATED:20260304T185341Z
LAST-MODIFIED:20260304T185341Z
UID:14912-1777114800-1777122000@westviewbaptistchurch.net
SUMMARY:Mother's Day Tea
DESCRIPTION:Reserve a table and invite all the special ladies in your life. Decorate your table and bring your favorite tea pots and cups. Door Prizes for the BEST Hat and decorated table! May 9th at 10:30 AM.
URL:https://westviewbaptistchurch.net/event/mothers-day-tea/
LOCATION:Westview Baptist Church\, 2140 Stephens Rd\, Warren\, MI\, 48091\, United States
ATTACH;FMTTYPE=image/jpeg:https://westviewbaptistchurch.net/wp-content/uploads/2026/03/mothersday-tea.jpg
END:VEVENT
END:VCALENDAR